BEGIN:VCALENDAR
VERSION:2.0
PRODID:-//香港基督教循道衞理聯合教會 將軍澳堂 - ECPv6.3.5//NONSGML v1.0//EN
CALSCALE:GREGORIAN
METHOD:PUBLISH
X-ORIGINAL-URL:https://tko.methodist.org.hk
X-WR-CALDESC:Events for 香港基督教循道衞理聯合教會 將軍澳堂
REFRESH-INTERVAL;VALUE=DURATION:PT1H
X-Robots-Tag:noindex
X-PUBLISHED-TTL:PT1H
BEGIN:VTIMEZONE
TZID:Asia/Shanghai
BEGIN:STANDARD
TZOFFSETFROM:+0800
TZOFFSETTO:+0800
TZNAME:CST
DTSTART:20230101T000000
END:STANDARD
END:VTIMEZONE
BEGIN:VEVENT
DTSTART;TZID=Asia/Shanghai:20230914T110000
DTEND;TZID=Asia/Shanghai:20231005T200000
DTSTAMP:20260422T164257
CREATED:20230826T060034Z
LAST-MODIFIED:20240325T212500Z
UID:440-1694689200-1696536000@tko.methodist.org.hk
SUMMARY:第九屆「與主同行廿一天」靈修課程
DESCRIPTION:靈修卻是每日與主相遇的時刻。此課程希望透過四次學習，幫助弟兄姊妹親自與主相遇；認識及體驗靈修是什麼。此課程設計簡單，容易掌握，讓弟兄姊妹能每天落實靈修的習慣。 \n課程特色：學員與導師一同經歷 21 天與主相遇的屬靈之旅。 \n日　期：2023年9月14日、21日、28日和10月5日（4個星期四） \n時　間：晚上7:30至9:00 \n地　點：地下顯恩堂 \n導　師：信仰栽培組組員 \n對　象：～歡迎對靈修有興趣的弟兄姊妹； \n～歡迎之前已參加過溫故知新的弟兄姊妹。 \n截止報名日期：2023年9月10日（主日） \n報　名：請填妥網上表格https://forms.gle/QRHMrfmtm7jupT328 \n查　詢：請與歐寶文宣教師或羅淑華姊妹聯絡
URL:https://tko.methodist.org.hk/event/walkalong21/
CATEGORIES:信仰栽培組
END:VEVENT
END:VCALENDAR